BEGIN:VCALENDAR
VERSION:2.0
PRODID:-//wp-events-plugin.com//7.2.3.1//EN
TZID:Europe/Berlin
X-WR-TIMEZONE:Europe/Berlin
BEGIN:VEVENT
UID:86@fromm-gesellschaft.eu
DTSTART:20261128T100000Z
DTEND:20261128T170000Z
DTSTAMP:20260105T094034Z
URL:https://fromm-gesellschaft.eu/events/arbeitskreis-regensburg-8/
SUMMARY:Arbeitskreis Regensburg
DESCRIPTION:Informationen zum geplanten Programm dieses Treffens erhalten S
 ie über den Koordinator:  Kontakt\n\nNeben den Arbeitskreistreffen (Work
 shop-Format) gibt es einen monatlichen "Fromm-Tisch" als Gesprächskreis s
 owie monatliche Online-Treffen zum Erfahrungsaustausch der regelmäßigen 
 Teilnehmerinnen und Teilnehmer des Workshops. Hinweise dazu und die nächs
 ten Termine finden Sie hier.
ATTACH;FMTTYPE=image/jpeg:https://fromm-gesellschaft.eu/wp-content/uploads
 /2024/02/cropped-EFSC-logo-grau.png
CATEGORIES:Arbeitskreistreffen
LOCATION:Eckert Schulen Regenstauf\, Dr.-Robert-Eckert-Straße 3\, Regensta
 uf\, 93128\, Deutschland
X-APPLE-STRUCTURED-LOCATION;VALUE=URI;X-ADDRESS=Dr.-Robert-Eckert-Straße 3
 \, Regenstauf\, 93128\, Deutschland;X-APPLE-RADIUS=100;X-TITLE=Eckert Schu
 len Regenstauf:geo:0,0
END:VEVENT
END:VCALENDAR