BEGIN:VCALENDAR
VERSION:2.0
PRODID:-//wp-events-plugin.com//7.2.3.1//EN
TZID:Europe/Berlin
X-WR-TIMEZONE:Europe/Berlin
BEGIN:VEVENT
UID:70@fromm-gesellschaft.eu
DTSTART;TZID=Europe/Berlin:20260522T180000
DTEND;TZID=Europe/Berlin:20260524T130000
DTSTAMP:20260415T120552Z
URL:https://fromm-gesellschaft.eu/events/jahrestagung-2026-die-pathologie-
 der-normalitaet/
SUMMARY:Jahrestagung 2026: "Pathologie der Normalität – Erich Fromm und 
 das Selbst im digitalen Zeitalter"
DESCRIPTION:Jahrestagung 2026 der Internationalen Erich-Fromm-Gesellschaft 
 e.V.\nvon Freitag\, 22. Mai bis Sonntag\, 24. Mai\, im Evangelischen Bildu
 ngs- und Tagungszentrum Bad Alexandersbad\n\nNähere Informationen zur Tag
 ung und den Tagungsflyer mit dem detaillierten Programm finden Sie auf uns
 erer → Tagungswebsite.\n\nAchtung:\nWir sind natürlich bemüht\, Sie re
 gulär im Tagungshaus unterzubringen. Falls aber keine Zimmer im Tagungsha
 us selbst mehr verfügbar wären\, müssten wir Sie gfs. in einem externen
  Hotel in Marktredwitz (7 km entfernt) unterbringen\, das mit dem Tagungsh
 aus kooperiert. Dort würden Sie nur übernachten\, jedoch alle Mahlzeiten
  (einschl. des Frühstücks) mit allen anderen Teilnehmer*innen zusammen i
 m Tagungshaus einnehmen. Da es am Wochenende keine Busverbindung zwischen 
 Marktredwitz und Bad Alexandersbad gibt\, wäre dies eine Option für mit 
 dem PKW Anreisende.\n►Bitte lassen Sie es uns wissen\, falls Sie nicht m
 it dieser Regelung einverstanden sind\, indem Sie die entsprechende Checkb
 ox anklicken. Wir melden uns dann bei Ihnen.\n\n►Anmeldung bitte mit dem
  unten stehenden Formular (ein Konto bei uns ist nicht erforderlich).\n\nV
 ielen Dank!
ATTACH;FMTTYPE=image/jpeg:https://fromm-gesellschaft.eu/wp-content/uploads
 /2025/08/Bad_Alexandersbad.jpg
CATEGORIES:Tagungen
LOCATION:EBZ Bad Alexandersbad\, Markgrafenstr. 34\, Bad Alexandersbad\, Ba
 yern\, 95680\, Oberfranken\, Deutschland
X-APPLE-STRUCTURED-LOCATION;VALUE=URI;X-ADDRESS=Markgrafenstr. 34\, Bad Ale
 xandersbad\, Bayern\, 95680\, Oberfranken\, Deutschland;X-APPLE-RADIUS=100
 ;X-TITLE=EBZ Bad Alexandersbad:geo:0,0
END:VEVENT
BEGIN:VTIMEZONE
TZID:Europe/Berlin
X-LIC-LOCATION:Europe/Berlin
BEGIN:DAYLIGHT
DTSTART:20260329T030000
TZOFFSETFROM:+0100
TZOFFSETTO:+0200
TZNAME:CEST
END:DAYLIGHT
END:VTIMEZONE
END:VCALENDAR