BEGIN:VCALENDAR
VERSION:2.0
PRODID:-//wp-events-plugin.com//7.2.3.1//EN
TZID:Europe/Berlin
X-WR-TIMEZONE:Europe/Berlin
BEGIN:VEVENT
UID:89@fromm-gesellschaft.eu
DTSTART;TZID=Europe/Berlin:20260223T190000
DTEND;TZID=Europe/Berlin:20260223T210000
DTSTAMP:20260108T142608Z
URL:https://fromm-gesellschaft.eu/events/tuebinger-arbeitskreis-5/
SUMMARY:Tübinger Arbeitskreis
DESCRIPTION:(Konferenzsprache: Deutsch)\n\nUnter dem Titel „Bindungslos v
 erbunden sein“ soll es an diesem Abend um jene Art des Bezogenseins und 
 Selbsterlebens gehen\, die für Menschen des digitalen Zeitalters eine hoh
 e Attraktivität hat – eben bindungslos verbunden zu sein.\n\nInteressie
 rte\, die bisher nicht am Gesprächskreis teilgenommen haben\, sind willko
 mmen und werden gebeten\, zuvor den Moderator des Tübinger Arbeitskreises
 \, Rainer Funk\, zu kontaktieren (Tel. 07071-600 004\; E-Mail: mailto:fro
 mmfunk@gmail.com\n\n&nbsp\;
ATTACH;FMTTYPE=image/jpeg:https://fromm-gesellschaft.eu/wp-content/uploads
 /2024/02/EFSC-logo-blau.png
CATEGORIES:Arbeitskreistreffen
LOCATION:Erich-Fromm-Institut\, Hintere Grabenstrasse 26\, Tübingen\, 7207
 0\, Demokratische Volksrepublik Korea
X-APPLE-STRUCTURED-LOCATION;VALUE=URI;X-ADDRESS=Hintere Grabenstrasse 26\, 
 Tübingen\, 72070\, Demokratische Volksrepublik Korea;X-APPLE-RADIUS=100;X
 -TITLE=Erich-Fromm-Institut:geo:0,0
END:VEVENT
BEGIN:VTIMEZONE
TZID:Europe/Berlin
X-LIC-LOCATION:Europe/Berlin
BEGIN:STANDARD
DTSTART:20251026T020000
TZOFFSETFROM:+0200
TZOFFSETTO:+0100
TZNAME:CET
END:STANDARD
END:VTIMEZONE
END:VCALENDAR